BEGIN:VCALENDAR
VERSION:2.0
PRODID:-//Subhana - ECPv6.15.13//NONSGML v1.0//EN
CALSCALE:GREGORIAN
METHOD:PUBLISH
X-WR-CALNAME:Subhana
X-ORIGINAL-URL:https://subhana.com.au
X-WR-CALDESC:Events for Subhana
REFRESH-INTERVAL;VALUE=DURATION:PT1H
X-Robots-Tag:noindex
X-PUBLISHED-TTL:PT1H
BEGIN:VTIMEZONE
TZID:Australia/Sydney
BEGIN:STANDARD
TZOFFSETFROM:+1100
TZOFFSETTO:+1000
TZNAME:AEST
DTSTART:20170401T160000
END:STANDARD
BEGIN:DAYLIGHT
TZOFFSETFROM:+1000
TZOFFSETTO:+1100
TZNAME:AEDT
DTSTART:20170930T160000
END:DAYLIGHT
BEGIN:STANDARD
TZOFFSETFROM:+1100
TZOFFSETTO:+1000
TZNAME:AEST
DTSTART:20180331T160000
END:STANDARD
BEGIN:DAYLIGHT
TZOFFSETFROM:+1000
TZOFFSETTO:+1100
TZNAME:AEDT
DTSTART:20181006T160000
END:DAYLIGHT
BEGIN:STANDARD
TZOFFSETFROM:+1100
TZOFFSETTO:+1000
TZNAME:AEST
DTSTART:20190406T160000
END:STANDARD
BEGIN:DAYLIGHT
TZOFFSETFROM:+1000
TZOFFSETTO:+1100
TZNAME:AEDT
DTSTART:20191005T160000
END:DAYLIGHT
END:VTIMEZONE
BEGIN:VEVENT
DTSTART;VALUE=DATE:20180928
DTEND;VALUE=DATE:20181006
DTSTAMP:20260425T000458
CREATED:20141231T151524Z
LAST-MODIFIED:20171121T045623Z
UID:256-1538092800-1538783999@subhana.com.au
SUMMARY:Open Heart – Open Mind Silent Retreat
DESCRIPTION:Teachers: Subhana Barzaghi & Julie Downard
URL:https://subhana.com.au/retreat/open-heart-open-mind-silent-retreat/
LOCATION:Staveley Camp\, Sawmill Road\, Mid Canterbury\, New Zealand
CATEGORIES:Insight Meditation
ORGANIZER;CN="Southern Insight New Zealand":MAILTO:diana.r@xtra.co.nz
END:VEVENT
END:VCALENDAR