BEGIN:VCALENDAR
VERSION:2.0
PRODID:-//Subhana - ECPv6.15.13//NONSGML v1.0//EN
CALSCALE:GREGORIAN
METHOD:PUBLISH
X-WR-CALNAME:Subhana
X-ORIGINAL-URL:https://subhana.com.au
X-WR-CALDESC:Events for Subhana
REFRESH-INTERVAL;VALUE=DURATION:PT1H
X-Robots-Tag:noindex
X-PUBLISHED-TTL:PT1H
BEGIN:VTIMEZONE
TZID:Australia/Sydney
BEGIN:STANDARD
TZOFFSETFROM:+1100
TZOFFSETTO:+1000
TZNAME:AEST
DTSTART:20180331T160000
END:STANDARD
BEGIN:DAYLIGHT
TZOFFSETFROM:+1000
TZOFFSETTO:+1100
TZNAME:AEDT
DTSTART:20181006T160000
END:DAYLIGHT
BEGIN:STANDARD
TZOFFSETFROM:+1100
TZOFFSETTO:+1000
TZNAME:AEST
DTSTART:20190406T160000
END:STANDARD
BEGIN:DAYLIGHT
TZOFFSETFROM:+1000
TZOFFSETTO:+1100
TZNAME:AEDT
DTSTART:20191005T160000
END:DAYLIGHT
BEGIN:STANDARD
TZOFFSETFROM:+1100
TZOFFSETTO:+1000
TZNAME:AEST
DTSTART:20200404T160000
END:STANDARD
BEGIN:DAYLIGHT
TZOFFSETFROM:+1000
TZOFFSETTO:+1100
TZNAME:AEDT
DTSTART:20201003T160000
END:DAYLIGHT
END:VTIMEZONE
BEGIN:VEVENT
DTSTART;VALUE=DATE:20190322
DTEND;VALUE=DATE:20190328
DTSTAMP:20260425T003014
CREATED:20151207T044947Z
LAST-MODIFIED:20190113T020112Z
UID:670-1553212800-1553731199@subhana.com.au
SUMMARY:Insight retreat: Deepening Into Stillness
DESCRIPTION:Teachers: Subhana Barzaghi & Alan Bassal \nThe retreat will provide the opportunity to deepen into awakening presence\, being free from the agitations of the thinking mind. When we do experience presence and stillness\, most of us are quickly pulled back into the world of the mind which gets caught up in past and future thoughts. Deepening into stillness allows us to examine and transform the habitual limited patterns of mind that create confusion\, anxiety and suffering. \nThe retreat will support inquiry into what it means to be fully awake\, what takes us out of that state and how to remain more fundamentally present and alive in our daily lives and relationships. \nThe retreat program consists of sitting\, walking & guided meditations\, meditation instruction\, group & individual meetings with teachers\, open inquiry sessions\, evening Dharma talks & morning and afternoon gentle yoga sessions. \nDOWNLOADS:\n» Deepening Into Stillness Flyer (pdf)\n» Download Deepening Into Stillness Registration Form
URL:https://subhana.com.au/retreat/insight-retreat/
LOCATION:Brahma Kumari Centre for Spiritual Learning\, 150 Macarthur Drive\, Wilton\, NSW\, 2571\, Australia
CATEGORIES:Insight Meditation
END:VEVENT
END:VCALENDAR