BEGIN:VCALENDAR
VERSION:2.0
PRODID:-//Subhana - ECPv6.15.13//NONSGML v1.0//EN
CALSCALE:GREGORIAN
METHOD:PUBLISH
X-WR-CALNAME:Subhana
X-ORIGINAL-URL:https://subhana.com.au
X-WR-CALDESC:Events for Subhana
REFRESH-INTERVAL;VALUE=DURATION:PT1H
X-Robots-Tag:noindex
X-PUBLISHED-TTL:PT1H
BEGIN:VTIMEZONE
TZID:Australia/Sydney
BEGIN:STANDARD
TZOFFSETFROM:+1100
TZOFFSETTO:+1000
TZNAME:AEST
DTSTART:20140405T160000
END:STANDARD
BEGIN:DAYLIGHT
TZOFFSETFROM:+1000
TZOFFSETTO:+1100
TZNAME:AEDT
DTSTART:20141004T160000
END:DAYLIGHT
BEGIN:STANDARD
TZOFFSETFROM:+1100
TZOFFSETTO:+1000
TZNAME:AEST
DTSTART:20150404T160000
END:STANDARD
BEGIN:DAYLIGHT
TZOFFSETFROM:+1000
TZOFFSETTO:+1100
TZNAME:AEDT
DTSTART:20151003T160000
END:DAYLIGHT
BEGIN:STANDARD
TZOFFSETFROM:+1100
TZOFFSETTO:+1000
TZNAME:AEST
DTSTART:20160402T160000
END:STANDARD
BEGIN:DAYLIGHT
TZOFFSETFROM:+1000
TZOFFSETTO:+1100
TZNAME:AEDT
DTSTART:20161001T160000
END:DAYLIGHT
END:VTIMEZONE
BEGIN:VEVENT
DTSTART;VALUE=DATE:20150102
DTEND;VALUE=DATE:20150109
DTSTAMP:20260425T000458
CREATED:20141222T195245Z
LAST-MODIFIED:20141231T152740Z
UID:123-1420156800-1420761599@subhana.com.au
SUMMARY:Insight Retreat: Open Heart – Open Mind
DESCRIPTION:Insight meditation allows us to examine and transform the habitual limited patterns of mind that create confusion\, anxiety\, reactivity and suffering. The retreat offers an ideal opportunity for established meditators to deepen their practice. \nThose new to meditation can experience a valuable and gentle introduction to silent meditation and the dharma teachings in a welcoming supportive environment. There will be opportunities for creative expression to enhance and bring new dimensions to practice.
URL:https://subhana.com.au/retreat/insight-retreat-open-heart-open-mind/
LOCATION:Glentui Camp\, 140 Glentui Bush Road\, Oxford\, New Zealand
CATEGORIES:Insight Meditation
ORGANIZER;CN="Southern Insight New Zealand":MAILTO:diana.r@xtra.co.nz
END:VEVENT
END:VCALENDAR