BEGIN:VCALENDAR
VERSION:2.0
PRODID:-//Subhana - ECPv6.15.13//NONSGML v1.0//EN
CALSCALE:GREGORIAN
METHOD:PUBLISH
X-WR-CALNAME:Subhana
X-ORIGINAL-URL:https://subhana.com.au
X-WR-CALDESC:Events for Subhana
REFRESH-INTERVAL;VALUE=DURATION:PT1H
X-Robots-Tag:noindex
X-PUBLISHED-TTL:PT1H
BEGIN:VTIMEZONE
TZID:Australia/Sydney
BEGIN:STANDARD
TZOFFSETFROM:+1100
TZOFFSETTO:+1000
TZNAME:AEST
DTSTART:20170401T160000
END:STANDARD
BEGIN:DAYLIGHT
TZOFFSETFROM:+1000
TZOFFSETTO:+1100
TZNAME:AEDT
DTSTART:20170930T160000
END:DAYLIGHT
BEGIN:STANDARD
TZOFFSETFROM:+1100
TZOFFSETTO:+1000
TZNAME:AEST
DTSTART:20180331T160000
END:STANDARD
BEGIN:DAYLIGHT
TZOFFSETFROM:+1000
TZOFFSETTO:+1100
TZNAME:AEDT
DTSTART:20181006T160000
END:DAYLIGHT
BEGIN:STANDARD
TZOFFSETFROM:+1100
TZOFFSETTO:+1000
TZNAME:AEST
DTSTART:20190406T160000
END:STANDARD
BEGIN:DAYLIGHT
TZOFFSETFROM:+1000
TZOFFSETTO:+1100
TZNAME:AEDT
DTSTART:20191005T160000
END:DAYLIGHT
END:VTIMEZONE
BEGIN:VEVENT
DTSTART;VALUE=DATE:20180608
DTEND;VALUE=DATE:20180616
DTSTAMP:20260425T003318
CREATED:20151207T045859Z
LAST-MODIFIED:20180301T012841Z
UID:672-1528416000-1529107199@subhana.com.au
SUMMARY:Insight Meditation Retreat – Embodying the Awakened Heart-Mind
DESCRIPTION:Teachers: Subhana Barzaghi & Carol Perry \nThis is a silent retreat with the retreat program consisting of sitting\, walking and guided meditations\, meditation instruction\, group and individual meetings with teachers\, open inquiry sessions\, evening Dharma talks\, mindfulness work periods\, free time and optional yoga periods. \nThis retreat is for both experienced and new meditators. \n \nDOWNLOAD RETREAT FLYER\nDOWNLOAD REGISTRATION FORM
URL:https://subhana.com.au/retreat/insight-retreat-awakened-mind/
LOCATION:Sangsurya\, 95 Old Bangalow Rd\, Byron Bay\, NSW\, 2481\, Australia
CATEGORIES:Insight Meditation
END:VEVENT
END:VCALENDAR